BEGIN:VCALENDAR
METHOD:PUBLISH
PRODID:evanced event management system
VERSION:2.0
BEGIN:VEVENT
UID:http://events.wlnonline.org/eventsignup.asp?ID=48648
DTSTAMP:20260424T134338Z
DTSTART:20260512T180000Z
DTEND:20260512T190000Z
TITLE;ENCODING=QUOTED-PRINTABLE:Virtual Author Talk with Dr. Vivienne Ming
SUMMARY;ENCODING=QUOTED-PRINTABLE:Virtual Author Talk with Dr. Vivienne Ming
DESCRIPTION;ENCODING=QUOTED-PRINTABLE:Join us for a timely conversation on AI, humanity, and the next steps towards building a better future with self-proclaimed "mad scientist" Dr. Vivienne Ming as we discuss her new book, Robot-Proof: When Machines Have All the Answers, Build Better People on Tuesday, May 12th at 2 PM ET via digital live-stream or video-on-demand after the talk premieres. =0D=0A=0D=0ARegister and ask questions of the author here: https://libraryc.org/ligonierlibrary/upcoming
LOCATION:Ligonier Valley Library
URL:http://events.wlnonline.org/eventsignup.asp?ID=48648
CATEGORIES:Virtual Event
END:VEVENT
END:VCALENDAR
