BEGIN:VCALENDAR
METHOD:PUBLISH
PRODID:evanced event management system
VERSION:2.0
BEGIN:VEVENT
UID:http://events.wlnonline.org/eventsignup.asp?ID=48647
DTSTAMP:20260424T134242Z
DTSTART:20260507T230000Z
DTEND:20260508T000000Z
TITLE;ENCODING=QUOTED-PRINTABLE:Virtual Author Talk with Marjan Kamali
SUMMARY;ENCODING=QUOTED-PRINTABLE:Virtual Author Talk with Marjan Kamali
DESCRIPTION;ENCODING=QUOTED-PRINTABLE:Join us for an exciting conversation with internationally acclaimed author Marjan Kamali as we delve into the timeless wonder of her New York Times bestselling novel, The Lion Women of Tehran on Thursday, May 7th at 7 PM ET via digital live-stream or video-on-demand after the talk premieres.=0D=0A=0D=0ARegister and ask questions of the author here: https://libraryc.org/ligonierlibrary/upcoming 
LOCATION:Ligonier Valley Library
URL:http://events.wlnonline.org/eventsignup.asp?ID=48647
CATEGORIES:Virtual Event
END:VEVENT
END:VCALENDAR
