BEGIN:VCALENDAR
METHOD:PUBLISH
PRODID:evanced event management system
VERSION:2.0
BEGIN:VEVENT
UID:http://events.wlnonline.org/eventsignup.asp?ID=48646
DTSTAMP:20260424T134151Z
DTSTART:20260519T180000Z
DTEND:20260519T190000Z
TITLE;ENCODING=QUOTED-PRINTABLE:Virtual Author Talk with Nir Eyal
SUMMARY;ENCODING=QUOTED-PRINTABLE:Virtual Author Talk with Nir Eyal
DESCRIPTION;ENCODING=QUOTED-PRINTABLE:What if the only thing standing between you and the seemingly impossible... was belief? This is the question posed by bestselling author Nir Eyal in his new work, Beyond Belief. Join us Tuesday, May 19th at 2 PM ET via digital live-stream in or video-on-demand after the talk premieres.=0D=0A=0D=0ARegister and ask questions of the author here: https://libraryc.org/ligonierlibrary/upcoming
LOCATION:Ligonier Valley Library
URL:http://events.wlnonline.org/eventsignup.asp?ID=48646
CATEGORIES:Virtual Event
END:VEVENT
END:VCALENDAR
