BEGIN:VCALENDAR
METHOD:PUBLISH
PRODID:evanced event management system
VERSION:2.0
BEGIN:VEVENT
UID:http://events.wlnonline.org/eventsignup.asp?ID=48644
DTSTAMP:20260424T134007Z
DTSTART:20260526T213000Z
DTEND:20260526T224500Z
TITLE;ENCODING=QUOTED-PRINTABLE:Genealogy Forum
SUMMARY;ENCODING=QUOTED-PRINTABLE:Genealogy Forum
DESCRIPTION;ENCODING=QUOTED-PRINTABLE:Have you ever wondered who you might be related to, or how your family came to the United States or, more specifically, to Pennsylvania or Ligonier?=0D=0A=0D=0AThe Ligonier Valley Library's Genealogy Forum will help you develop the tricks and tools needed to trace your family lineage, start your own family bible, or just learn more about family history in general. Each forum meeting focuses on some aspect of family research and occasionally features a guest speaker. Programs are led by or organized by the librar'’s Pennsylvania Room Archivist.=0D=0A=0D=0AThe Genealogy Forum meets the 4th Tuesday of January, March, May, September, and October.=0D=0A=0D=0AGenealogy Forum meetings are free and open to the public.=0D=0A=0D=0AFor more information, call the library at 724-238-6451 or email paroom@ligonierlibrary.org
LOCATION:Ligonier Valley Library at Community Room
URL:http://events.wlnonline.org/eventsignup.asp?ID=48644
CATEGORIES:History
END:VEVENT
END:VCALENDAR
