BEGIN:VCALENDAR
METHOD:PUBLISH
PRODID:evanced event management system
VERSION:2.0
BEGIN:VEVENT
UID:http://events.wlnonline.org/eventsignup.asp?ID=48547
DTSTAMP:20260423T144804Z
DTSTART:20260610T220000Z
DTEND:20260610T230000Z
TITLE;ENCODING=QUOTED-PRINTABLE:Book Discussion
SUMMARY;ENCODING=QUOTED-PRINTABLE:Book Discussion
DESCRIPTION;ENCODING=QUOTED-PRINTABLE:Join us at 6 pm to discuss the book "The Devil in the White City" by Erik Larson. It's always a good time with snacks provided. Call the library at 724-523-5702 if you'd like to join us.
LOCATION:Jeannette Public Library at Conference Room
URL:http://events.wlnonline.org/eventsignup.asp?ID=48547
CATEGORIES:Adult Program
END:VEVENT
END:VCALENDAR
