BEGIN:VCALENDAR
METHOD:PUBLISH
PRODID:evanced event management system
VERSION:2.0
BEGIN:VEVENT
UID:http://events.wlnonline.org/eventsignup.asp?ID=48546
DTSTAMP:20260423T131037Z
DTSTART:20260518T153000Z
DTEND:20260518T153000Z
TITLE;ENCODING=QUOTED-PRINTABLE:Summer Reading Registration
SUMMARY;ENCODING=QUOTED-PRINTABLE:Summer Reading Registration
DESCRIPTION;ENCODING=QUOTED-PRINTABLE:Children and adults, it's time to register for Unearth a Story. Each week, the children will meet on Monday at 1 pm in the conference room. You get a drawing ticket for each hour you read and each event you attend. Join Dibgy and his friends as we read together this summer.
LOCATION:Jeannette Public Library at Children's Room
URL:http://events.wlnonline.org/eventsignup.asp?ID=48546
CATEGORIES:Summer Reading Program
END:VEVENT
END:VCALENDAR
