BEGIN:VCALENDAR
METHOD:PUBLISH
PRODID:evanced event management system
VERSION:2.0
BEGIN:VEVENT
UID:http://events.wlnonline.org/eventsignup.asp?ID=48545
DTSTAMP:20260422T183332Z
DTSTART;VALUE=DATE:20260704
DTEND;VALUE=DATE:20260705
TITLE;ENCODING=QUOTED-PRINTABLE:Closed for holiday.
SUMMARY;ENCODING=QUOTED-PRINTABLE:Closed for holiday.
DESCRIPTION;ENCODING=QUOTED-PRINTABLE:The library will be closed for the Fourth of July!!!
LOCATION:Delmont Public Library at Delmont Library
URL:http://events.wlnonline.org/eventsignup.asp?ID=48545
CATEGORIES:Holiday Library Closed
END:VEVENT
END:VCALENDAR
