BEGIN:VCALENDAR
METHOD:PUBLISH
PRODID:evanced event management system
VERSION:2.0
BEGIN:VEVENT
UID:http://events.wlnonline.org/eventsignup.asp?ID=48543
DTSTAMP:20260422T182923Z
DTSTART:20260618T223000Z
DTEND:20260619T003000Z
TITLE;ENCODING=QUOTED-PRINTABLE:Delmont Band will perform in the garden area
SUMMARY;ENCODING=QUOTED-PRINTABLE:Delmont Band will perform in the garden area
DESCRIPTION;ENCODING=QUOTED-PRINTABLE:Come and listen to the Delmont Band set your feet to tapping!  Bring a lawn chair or blanket.
LOCATION:Delmont Public Library at Delmont Library Garden
URL:http://events.wlnonline.org/eventsignup.asp?ID=48543
CATEGORIES:Family Friendly
END:VEVENT
END:VCALENDAR
