BEGIN:VCALENDAR
METHOD:PUBLISH
PRODID:evanced event management system
VERSION:2.0
BEGIN:VEVENT
UID:http://events.wlnonline.org/eventsignup.asp?ID=48540
DTSTAMP:20260422T181515Z
DTSTART:20260616T230000Z
DTEND:20260617T004500Z
TITLE;ENCODING=QUOTED-PRINTABLE:Delmont Library Board meeting
SUMMARY;ENCODING=QUOTED-PRINTABLE:Delmont Library Board meeting
DESCRIPTION;ENCODING=QUOTED-PRINTABLE:The board of trustees will meet in the community room.
LOCATION:Delmont Public Library at Lendl Community Room at Delmont Library
URL:http://events.wlnonline.org/eventsignup.asp?ID=48540
CATEGORIES:Meeting 
END:VEVENT
END:VCALENDAR
