BEGIN:VCALENDAR
METHOD:PUBLISH
PRODID:evanced event management system
VERSION:2.0
BEGIN:VEVENT
UID:http://events.wlnonline.org/eventsignup.asp?ID=48536
DTSTAMP:20260422T180056Z
DTSTART:20260610T220000Z
DTEND:20260610T230000Z
TITLE;ENCODING=QUOTED-PRINTABLE:Western Pennsylvania in the Revolutionary Era
SUMMARY;ENCODING=QUOTED-PRINTABLE:Western Pennsylvania in the Revolutionary Era
DESCRIPTION;ENCODING=QUOTED-PRINTABLE:Storyteller Alan Irvine will present stories of life in the late 1700's out on the frontier. Tales of the French and Indian War, Pontiac's War, raids in the night and the struggle to survive, Virginia's Invasion of Pittsburgh, the dramatic uprising of the Whiskey Rebellion, and Pittsburgh's rise as the Gateway to the West. Please register at delmontlibrary.org
LOCATION:Delmont Public Library at Lendl Community Room at Delmont Library
URL:http://events.wlnonline.org/eventsignup.asp?ID=48536
CATEGORIES:All Ages
END:VEVENT
END:VCALENDAR
