BEGIN:VCALENDAR
METHOD:PUBLISH
PRODID:evanced event management system
VERSION:2.0
BEGIN:VEVENT
UID:http://events.wlnonline.org/eventsignup.asp?ID=48534
DTSTAMP:20260422T174718Z
DTSTART:20260609T230000Z
DTEND:20260610T003000Z
TITLE;ENCODING=QUOTED-PRINTABLE:Delmont Visionary Committee meeting
SUMMARY;ENCODING=QUOTED-PRINTABLE:Delmont Visionary Committee meeting
DESCRIPTION;ENCODING=QUOTED-PRINTABLE:Members of the Visionary Committee will meet in the community room.
LOCATION:Delmont Public Library at Lendl Community Room at Delmont Library
URL:http://events.wlnonline.org/eventsignup.asp?ID=48534
CATEGORIES:Meeting 
END:VEVENT
END:VCALENDAR
