BEGIN:VCALENDAR
METHOD:PUBLISH
PRODID:evanced event management system
VERSION:2.0
BEGIN:VEVENT
UID:http://events.wlnonline.org/eventsignup.asp?ID=48533
DTSTAMP:20260422T174606Z
DTSTART:20260609T183000Z
DTEND:20260609T200000Z
TITLE;ENCODING=QUOTED-PRINTABLE:Tops Group
SUMMARY;ENCODING=QUOTED-PRINTABLE:Tops Group
DESCRIPTION;ENCODING=QUOTED-PRINTABLE:Members of Tops will meet in the community room.
LOCATION:Delmont Public Library at Lendl Community Room at Delmont Library
URL:http://events.wlnonline.org/eventsignup.asp?ID=48533
CATEGORIES:Fitness & Health
END:VEVENT
END:VCALENDAR
