BEGIN:VCALENDAR
METHOD:PUBLISH
PRODID:evanced event management system
VERSION:2.0
BEGIN:VEVENT
UID:http://events.wlnonline.org/eventsignup.asp?ID=48532
DTSTAMP:20260422T174515Z
DTSTART:20260608T223000Z
DTEND:20260608T233000Z
TITLE;ENCODING=QUOTED-PRINTABLE:Friends of Delmont Public Library
SUMMARY;ENCODING=QUOTED-PRINTABLE:Friends of Delmont Public Library
DESCRIPTION;ENCODING=QUOTED-PRINTABLE:Come join the Friends of Delmont Public Library for their monthly meeting and share your thoughts and ideas.  New faces, new ideas, and suggestions are always welcome!
LOCATION:Delmont Public Library at Lendl Community Room at Delmont Library
URL:http://events.wlnonline.org/eventsignup.asp?ID=48532
CATEGORIES:Meeting 
END:VEVENT
END:VCALENDAR
