BEGIN:VCALENDAR
METHOD:PUBLISH
PRODID:evanced event management system
VERSION:2.0
BEGIN:VEVENT
UID:http://events.wlnonline.org/eventsignup.asp?ID=48528
DTSTAMP:20260422T173404Z
DTSTART:20260601T213000Z
DTEND:20260601T223000Z
TITLE;ENCODING=QUOTED-PRINTABLE:Roblox Safety & Online Predators Class
SUMMARY;ENCODING=QUOTED-PRINTABLE:Roblox Safety & Online Predators Class
DESCRIPTION;ENCODING=QUOTED-PRINTABLE:Today's online world is always changing--especially for kids. We're hosting a session with the Pennsylvania State Police that takes a closer look at the online spaces kids are using every day--how they work, why they're so popular, and what parents should know.  Limit 50. Please register at delmontlibrary.org
LOCATION:Delmont Public Library at Lendl Community Room at Delmont Library
URL:http://events.wlnonline.org/eventsignup.asp?ID=48528
CATEGORIES:All Ages
END:VEVENT
END:VCALENDAR
