BEGIN:VCALENDAR
METHOD:PUBLISH
PRODID:evanced event management system
VERSION:2.0
BEGIN:VEVENT
UID:http://events.wlnonline.org/eventsignup.asp?ID=48526
DTSTAMP:20260422T172554Z
DTSTART:20260805T133000Z
DTEND:20260805T141500Z
TITLE;ENCODING=QUOTED-PRINTABLE:Frail-Proof Fitness
SUMMARY;ENCODING=QUOTED-PRINTABLE:Frail-Proof Fitness
DESCRIPTION;ENCODING=QUOTED-PRINTABLE:After the outdoor class, Amanda will discuss nutrition for midlife women.
LOCATION:Delmont Public Library at Lendl Community Room at Delmont Library
URL:http://events.wlnonline.org/eventsignup.asp?ID=48526
CATEGORIES:Fitness & Health
END:VEVENT
END:VCALENDAR
