BEGIN:VCALENDAR
METHOD:PUBLISH
PRODID:evanced event management system
VERSION:2.0
BEGIN:VEVENT
UID:http://events.wlnonline.org/eventsignup.asp?ID=48524
DTSTAMP:20260422T172243Z
DTSTART;VALUE=DATE:20260801
DTEND;VALUE=DATE:20260802
TITLE;ENCODING=QUOTED-PRINTABLE:Delmont Daze: Library will be Closed All Day
SUMMARY;ENCODING=QUOTED-PRINTABLE:Delmont Daze: Library will be Closed All Day
DESCRIPTION;ENCODING=QUOTED-PRINTABLE:Library will be closed all day.  Stop by our booth at the Parklet for some games and crafts.
LOCATION:Delmont Public Library at Delmont Library
URL:http://events.wlnonline.org/eventsignup.asp?ID=48524
CATEGORIES:Community Event
END:VEVENT
END:VCALENDAR
