BEGIN:VCALENDAR
METHOD:PUBLISH
PRODID:evanced event management system
VERSION:2.0
BEGIN:VEVENT
UID:http://events.wlnonline.org/eventsignup.asp?ID=48519
DTSTAMP:20260422T171524Z
DTSTART:20260701T133000Z
DTEND:20260701T141500Z
TITLE;ENCODING=QUOTED-PRINTABLE:Frail-Proof Fitness
SUMMARY;ENCODING=QUOTED-PRINTABLE:Frail-Proof Fitness
DESCRIPTION;ENCODING=QUOTED-PRINTABLE:After the outdoor class, Amanda will speak with the class about nutrition for midlife women. 
LOCATION:Delmont Public Library at Lendl Community Room at Delmont Library
URL:http://events.wlnonline.org/eventsignup.asp?ID=48519
CATEGORIES:Fitness & Health
END:VEVENT
END:VCALENDAR
