BEGIN:VCALENDAR
METHOD:PUBLISH
PRODID:evanced event management system
VERSION:2.0
BEGIN:VEVENT
UID:http://events.wlnonline.org/eventsignup.asp?ID=48516
DTSTAMP:20260422T175120Z
DTSTART:20260610T133000Z
DTEND:20260610T141500Z
TITLE;ENCODING=QUOTED-PRINTABLE:Frail-Proof Fitness
SUMMARY;ENCODING=QUOTED-PRINTABLE:Frail-Proof Fitness
DESCRIPTION;ENCODING=QUOTED-PRINTABLE:After the outside class, Amanda will provide information about nutrition for midlife women.  
LOCATION:Delmont Public Library at Lendl Community Room at Delmont Library
URL:http://events.wlnonline.org/eventsignup.asp?ID=48516
CATEGORIES:Fitness & Health
END:VEVENT
END:VCALENDAR
