BEGIN:VCALENDAR
METHOD:PUBLISH
PRODID:evanced event management system
VERSION:2.0
BEGIN:VEVENT
UID:http://events.wlnonline.org/eventsignup.asp?ID=48512
DTSTAMP:20260422T124345Z
DTSTART:20260523T170000Z
DTEND:20260523T183000Z
TITLE;ENCODING=QUOTED-PRINTABLE:The Kecksburg UFO Incident w/ Stan Gordon
SUMMARY;ENCODING=QUOTED-PRINTABLE:The Kecksburg UFO Incident w/ Stan Gordon
DESCRIPTION;ENCODING=QUOTED-PRINTABLE:Join Stan Gordon: author and UFO and cryptid expert to dive into the 60 year old mystery of the Kecksburg UFO Incident - when an unexplained acorn shape UFO fell from the sky.
LOCATION:Greensburg Hempfield Area Library at Greensburg Hempfield Area Library
URL:http://events.wlnonline.org/eventsignup.asp?ID=48512
CATEGORIES:Adult Program
END:VEVENT
END:VCALENDAR
