BEGIN:VCALENDAR
METHOD:PUBLISH
PRODID:evanced event management system
VERSION:2.0
BEGIN:VEVENT
UID:http://events.wlnonline.org/eventsignup.asp?ID=48511
DTSTAMP:20260421T175726Z
DTSTART:20260513T220000Z
DTEND:20260513T230000Z
TITLE;ENCODING=QUOTED-PRINTABLE:Adult Coloring
SUMMARY;ENCODING=QUOTED-PRINTABLE:Adult Coloring
DESCRIPTION;ENCODING=QUOTED-PRINTABLE:Join us for an hour to sit, draw or color, and laugh for a while.
LOCATION:Jeannette Public Library at Conference Room
URL:http://events.wlnonline.org/eventsignup.asp?ID=48511
CATEGORIES:Family Friendly
END:VEVENT
END:VCALENDAR
