BEGIN:VCALENDAR
METHOD:PUBLISH
PRODID:evanced event management system
VERSION:2.0
BEGIN:VEVENT
UID:http://events.wlnonline.org/eventsignup.asp?ID=48501
DTSTAMP:20260421T113139Z
DTSTART:20260817T223000Z
DTEND:20260818T000000Z
TITLE;ENCODING=QUOTED-PRINTABLE:Pages from the Past Book Club
SUMMARY;ENCODING=QUOTED-PRINTABLE:Pages from the Past Book Club
DESCRIPTION;ENCODING=QUOTED-PRINTABLE:Historical and Non-fiction for adults. This event is now held on the 3rd Monday of each month at 6:30 p.m. Book selection for this month is Everything is Tuberculosis by John Green. Register online at www.murrysvillelibrary.org or call the library at 724-327-1102.
LOCATION:Murrysville Community Library at Conference Room #1
URL:http://events.wlnonline.org/eventsignup.asp?ID=48501
CATEGORIES:Adult Program
END:VEVENT
END:VCALENDAR
