BEGIN:VCALENDAR
METHOD:PUBLISH
PRODID:evanced event management system
VERSION:2.0
BEGIN:VEVENT
UID:http://events.wlnonline.org/eventsignup.asp?ID=48496
DTSTAMP:20260421T110707Z
DTSTART:20260521T220000Z
DTEND:20260521T233000Z
TITLE;ENCODING=QUOTED-PRINTABLE:Colonial Pottery
SUMMARY;ENCODING=QUOTED-PRINTABLE:Colonial Pottery
DESCRIPTION;ENCODING=QUOTED-PRINTABLE:Perennial favorite Amy Roadman returns to demonstrate pottery, with a special focus on its importance in everyday life during the Revolutionary era.=0D=0A=0D=0ATo register, stop by the Upstairs Circulation Desk or call 724-539-1972.
LOCATION:Adams Memorial Library at Adams Memorial Library
URL:http://events.wlnonline.org/eventsignup.asp?ID=48496
CATEGORIES:Adult Program
END:VEVENT
END:VCALENDAR
