BEGIN:VCALENDAR
METHOD:PUBLISH
PRODID:evanced event management system
VERSION:2.0
BEGIN:VEVENT
UID:http://events.wlnonline.org/eventsignup.asp?ID=48487
DTSTAMP:20260420T174409Z
DTSTART;VALUE=DATE:20260525
DTEND;VALUE=DATE:20260526
TITLE;ENCODING=QUOTED-PRINTABLE:Closed for Memorial Day
SUMMARY;ENCODING=QUOTED-PRINTABLE:Closed for Memorial Day
DESCRIPTION;ENCODING=QUOTED-PRINTABLE:Library is closed today.
LOCATION:Delmont Public Library at Delmont Library
URL:http://events.wlnonline.org/eventsignup.asp?ID=48487
CATEGORIES:Holiday Library Closed
END:VEVENT
END:VCALENDAR
