BEGIN:VCALENDAR
METHOD:PUBLISH
PRODID:evanced event management system
VERSION:2.0
BEGIN:VEVENT
UID:http://events.wlnonline.org/eventsignup.asp?ID=48486
DTSTAMP:20260420T173657Z
DTSTART:20260523T140000Z
DTEND:20260523T170000Z
TITLE;ENCODING=QUOTED-PRINTABLE:Barn Quilt Painting Class
SUMMARY;ENCODING=QUOTED-PRINTABLE:Barn Quilt Painting Class
DESCRIPTION;ENCODING=QUOTED-PRINTABLE:The Delmont Historical Preservation Society presents Barn Quilt Painting Class for beginners. Fee is $35 and includes materials and instruction for a 12" x 12" barn quilt. Register by texting/calling 724-420-4455 by May 16th.  
LOCATION:Delmont Public Library at Lendl Community Room at Delmont Library
URL:http://events.wlnonline.org/eventsignup.asp?ID=48486
CATEGORIES:Adult Program
END:VEVENT
END:VCALENDAR
