BEGIN:VCALENDAR
METHOD:PUBLISH
PRODID:evanced event management system
VERSION:2.0
BEGIN:VEVENT
UID:http://events.wlnonline.org/eventsignup.asp?ID=48483
DTSTAMP:20260420T172819Z
DTSTART:20260519T230000Z
DTEND:20260520T010000Z
TITLE;ENCODING=QUOTED-PRINTABLE:Delmont Library Board meeting
SUMMARY;ENCODING=QUOTED-PRINTABLE:Delmont Library Board meeting
DESCRIPTION;ENCODING=QUOTED-PRINTABLE:The Board of Trustees will meet in the community room.
LOCATION:Delmont Public Library at Lendl Community Room at Delmont Library
URL:http://events.wlnonline.org/eventsignup.asp?ID=48483
CATEGORIES:Meeting 
END:VEVENT
END:VCALENDAR
