BEGIN:VCALENDAR
METHOD:PUBLISH
PRODID:evanced event management system
VERSION:2.0
BEGIN:VEVENT
UID:http://events.wlnonline.org/eventsignup.asp?ID=48480
DTSTAMP:20260420T172510Z
DTSTART:20260504T223000Z
DTEND:20260504T233000Z
TITLE;ENCODING=QUOTED-PRINTABLE:Rotaract Meeting
SUMMARY;ENCODING=QUOTED-PRINTABLE:Rotaract Meeting
DESCRIPTION;ENCODING=QUOTED-PRINTABLE:Members of the Rotaract Club will meet in the community room.
LOCATION:Delmont Public Library at Lendl Community Room at Delmont Library
URL:http://events.wlnonline.org/eventsignup.asp?ID=48480
CATEGORIES:Meeting 
END:VEVENT
END:VCALENDAR
