BEGIN:VCALENDAR
METHOD:PUBLISH
PRODID:evanced event management system
VERSION:2.0
BEGIN:VEVENT
UID:http://events.wlnonline.org/eventsignup.asp?ID=48479
DTSTAMP:20260420T165653Z
DTSTART:20260611T213000Z
DTEND:20260611T224500Z
TITLE;ENCODING=QUOTED-PRINTABLE:Quilting Workshop: Bury Yourself in Boro Stitching
SUMMARY;ENCODING=QUOTED-PRINTABLE:Quilting Workshop: Bury Yourself in Boro Stitching
DESCRIPTION;ENCODING=QUOTED-PRINTABLE:Join textile artist Peggy Black for a hands-on workshop exploring the beauty and history of this traditional Japanese mending technique. Rooted in resourcefulness and creativity, boro uses layered fabric scraps and simple running stitches to repair and strengthen worn textiles--transforming them into something both functional and artful.=0D=0A=0D=0AOver the course of four sessions, participants will learn foundational layering and stitching methods while creating their own small, quilted patch. Your finished piece can be transformed into a framed artwork, a decorative pillow accent, or a one-of-a-kind patch for clothing.=0D=0A=0D=0AAll supplies are provided--just bring your curiosity and creativity.=0D=0A=0D=0AThis four-part workshop will be held June 2, 4, 9, and 11 from 5:30-6:45 PM. Please plan on attending all four sessions to complete your project.=0D=0A=0D=0AOpen to ages 16 and up. Space is limited, and registration is required. Please visit ligonierlibrary.org/events to register. Registration will close on 5/25.=0D=0A=0D=0AThis workshop is made possible by the generous support of the Southern Alleghenies Museum of Art's Artist Residency Program.
LOCATION:Ligonier Valley Library at Community Room
URL:http://events.wlnonline.org/eventsignup.asp?ID=48479
CATEGORIES:Arts & Culture
END:VEVENT
END:VCALENDAR
