BEGIN:VCALENDAR
METHOD:PUBLISH
PRODID:evanced event management system
VERSION:2.0
BEGIN:VEVENT
UID:http://events.wlnonline.org/eventsignup.asp?ID=48469
DTSTAMP:20260420T101436Z
DTSTART:20260520T220000Z
DTEND:20260520T220000Z
TITLE;ENCODING=QUOTED-PRINTABLE:Kid’s Craft & Storytime: Gnome Spring Craft
SUMMARY;ENCODING=QUOTED-PRINTABLE:Kid’s Craft & Storytime: Gnome Spring Craft
DESCRIPTION;ENCODING=QUOTED-PRINTABLE:Stop by Caldwell Memorial Library for a phe-gnome-enal craft and hear stories featuring everyone’s favorite hat-wearing creature: gnomes.=0D=0AThis program is FREE but registration is required.=0D=0ATo register, stop by Caldwell Memorial Library or call 724-694-1401 ext. 3110.
LOCATION:Adams Memorial Library at Caldwell Memorial Library
URL:http://events.wlnonline.org/eventsignup.asp?ID=48469
CATEGORIES:Children's Program
END:VEVENT
END:VCALENDAR
