BEGIN:VCALENDAR
METHOD:PUBLISH
PRODID:evanced event management system
VERSION:2.0
BEGIN:VEVENT
UID:http://events.wlnonline.org/eventsignup.asp?ID=48468
DTSTAMP:20260420T101318Z
DTSTART:20260514T220000Z
DTEND:20260514T220000Z
TITLE;ENCODING=QUOTED-PRINTABLE:Book & Craft: Flower Bouquet
SUMMARY;ENCODING=QUOTED-PRINTABLE:Book & Craft: Flower Bouquet
DESCRIPTION;ENCODING=QUOTED-PRINTABLE:Make your own bouquet of flowers to celebrate Spring.  This craft is for children 5 & up, so younger children will need help.=0D=0ATo register, call the Children’s Room at 724-537-4383 or stop by the Children’s Room desk.
LOCATION:Adams Memorial Library at Children's Room
URL:http://events.wlnonline.org/eventsignup.asp?ID=48468
CATEGORIES:Children's Program
END:VEVENT
END:VCALENDAR
