BEGIN:VCALENDAR
METHOD:PUBLISH
PRODID:evanced event management system
VERSION:2.0
BEGIN:VEVENT
UID:http://events.wlnonline.org/eventsignup.asp?ID=48462
DTSTAMP:20260420T100359Z
DTSTART:20260507T170000Z
DTEND:20260507T170000Z
TITLE;ENCODING=QUOTED-PRINTABLE:Preschool Storytime
SUMMARY;ENCODING=QUOTED-PRINTABLE:Preschool Storytime
DESCRIPTION;ENCODING=QUOTED-PRINTABLE:Designed for our friends from 2½ to 5 years old who enjoy listening to stories, and their caregivers.  This storytime features books on a different theme each week, plus songs and rhymes. The same Preschool Storytime session is repeated Wednesday and Thursday each week. =0D=0ASpace may be limited.=0D=0AThis program is FREE but registration is required.=0D=0APlease register by calling the Children’s Room at 724-537-4383 or stopping by the Children’s Room desk.
LOCATION:Adams Memorial Library at Children's Room
URL:http://events.wlnonline.org/eventsignup.asp?ID=48462
CATEGORIES:Storytime
END:VEVENT
END:VCALENDAR
