BEGIN:VCALENDAR
METHOD:PUBLISH
PRODID:evanced event management system
VERSION:2.0
BEGIN:VEVENT
UID:http://events.wlnonline.org/eventsignup.asp?ID=48444
DTSTAMP:20260417T155709Z
DTSTART:20260509T140000Z
DTEND:20260509T190000Z
TITLE;ENCODING=QUOTED-PRINTABLE:Guided Walking Tours of Historic Ligonier
SUMMARY;ENCODING=QUOTED-PRINTABLE:Guided Walking Tours of Historic Ligonier
DESCRIPTION;ENCODING=QUOTED-PRINTABLE:Join Spencer Pfrogner from the history-minded YouTube channel Redoubt Productions for an hour-long journey into the past, right in the heart of downtown Ligonier. This experience highlights the heritage of several landmarks surrounding the town square. Incredible true stories that you will learn span from the era of the horse-drawn stagecoach, the age of steam railroading and into the rise of the automobile. Guests will walk away learning about the people who continually molded The Diamond in parallel with the ever-changing direction of U.S. History.=0D=0A=0D=0AGuided Tours will be offered Saturday, May 9th at 10 AM, 12 PM & 2 PM. Tours are free to attend and begin outside the main entrance of the Library building. Tours are outdoors and circle The Diamond with the use of sidewalks and crosswalks. Guests are encouraged to dress appropriately for the weather as tours occur rain or shine, with exceptions for severe weather.=0D=0A=0D=0AFor more information about Spencer's work visit https://redoubtproductions1754.com/.=0D=0A=0D=0AVisit https://www.ligonierlibrary.org/historic-walking-tour/ for more information about the historic sites featured on the walking tour.
LOCATION:Ligonier Valley Library
URL:http://events.wlnonline.org/eventsignup.asp?ID=48444
CATEGORIES:All Ages
END:VEVENT
END:VCALENDAR
