BEGIN:VCALENDAR
METHOD:PUBLISH
PRODID:evanced event management system
VERSION:2.0
BEGIN:VEVENT
UID:http://events.wlnonline.org/eventsignup.asp?ID=48443
DTSTAMP:20260417T124147Z
DTSTART:20260613T170000Z
DTEND:20260613T183000Z
TITLE;ENCODING=QUOTED-PRINTABLE:Plant-Based Nutrition 
SUMMARY;ENCODING=QUOTED-PRINTABLE:Plant-Based Nutrition 
DESCRIPTION;ENCODING=QUOTED-PRINTABLE:The group meets the 2nd Saturday of each month. Register online at www.murrysvillelibrary.org or call the library at 724-327-1102. The group will meet in the library in Conference Room 1. Programming details to follow.
LOCATION:Murrysville Community Library at Conference Rooms 1 & 2
URL:http://events.wlnonline.org/eventsignup.asp?ID=48443
CATEGORIES:Adult Program
END:VEVENT
END:VCALENDAR
