BEGIN:VCALENDAR
METHOD:PUBLISH
PRODID:evanced event management system
VERSION:2.0
BEGIN:VEVENT
UID:http://events.wlnonline.org/eventsignup.asp?ID=48418
DTSTAMP:20260417T110849Z
DTSTART:20260612T201500Z
DTEND:20260612T203000Z
TITLE;ENCODING=QUOTED-PRINTABLE:Dog Reading Pals
SUMMARY;ENCODING=QUOTED-PRINTABLE:Dog Reading Pals
DESCRIPTION;ENCODING=QUOTED-PRINTABLE:Reading to dogs is a proven method to improve reading skills. Stop by and read to one of our therapy dogs. DRP meets the 2nd Friday of each month. Children may bring their own book or get one at the library. Register online at www.murrysvillelibrary.org or call the library at 724-327-1102. Please register each child in your family for a 15 minute time slot.
LOCATION:Murrysville Community Library at Conference Room #1
URL:http://events.wlnonline.org/eventsignup.asp?ID=48418
CATEGORIES:Children's Program
END:VEVENT
END:VCALENDAR
