BEGIN:VCALENDAR
METHOD:PUBLISH
PRODID:evanced event management system
VERSION:2.0
BEGIN:VEVENT
UID:http://events.wlnonline.org/eventsignup.asp?ID=48409
DTSTAMP:20260414T130809Z
DTSTART:20260507T213000Z
DTEND:20260507T213000Z
TITLE;ENCODING=QUOTED-PRINTABLE:Adult Craft Night!
SUMMARY;ENCODING=QUOTED-PRINTABLE:Adult Craft Night!
DESCRIPTION;ENCODING=QUOTED-PRINTABLE:Come join Kelly for a fun and relaxing night of crafting!
LOCATION:Rostraver Public Library
URL:http://events.wlnonline.org/eventsignup.asp?ID=48409
CATEGORIES:Arts & Culture
END:VEVENT
END:VCALENDAR
