BEGIN:VCALENDAR
METHOD:PUBLISH
PRODID:evanced event management system
VERSION:2.0
BEGIN:VEVENT
UID:http://events.wlnonline.org/eventsignup.asp?ID=48406
DTSTAMP:20260414T125018Z
DTSTART;VALUE=DATE:20260424
DTEND;VALUE=DATE:20260425
TITLE;ENCODING=QUOTED-PRINTABLE:Used Book Sale
SUMMARY;ENCODING=QUOTED-PRINTABLE:Used Book Sale
DESCRIPTION;ENCODING=QUOTED-PRINTABLE:Don’t miss our Used Book Sale on April 24th & 25th! Stop by to browse a wide selection of books for all ages at great prices—perfect for finding your next favorite read.=0D=0A
LOCATION:Scottdale Public Library
URL:http://events.wlnonline.org/eventsignup.asp?ID=48406
CATEGORIES:All Ages
END:VEVENT
END:VCALENDAR
