BEGIN:VCALENDAR
METHOD:PUBLISH
PRODID:evanced event management system
VERSION:2.0
BEGIN:VEVENT
UID:http://events.wlnonline.org/eventsignup.asp?ID=48391
DTSTAMP:20260411T121311Z
DTSTART:20260416T170000Z
DTEND:20260416T170000Z
TITLE;ENCODING=QUOTED-PRINTABLE:Homeschool Hangouts - Skyline Silhouette
SUMMARY;ENCODING=QUOTED-PRINTABLE:Homeschool Hangouts - Skyline Silhouette
DESCRIPTION;ENCODING=QUOTED-PRINTABLE:Join other homeschool artists for a hands on lesson in color theory 
LOCATION:Penn Area Library at Multipurpose Room
URL:http://events.wlnonline.org/eventsignup.asp?ID=48391
CATEGORIES:Arts & Culture
END:VEVENT
END:VCALENDAR
