BEGIN:VCALENDAR
METHOD:PUBLISH
PRODID:evanced event management system
VERSION:2.0
BEGIN:VEVENT
UID:http://events.wlnonline.org/eventsignup.asp?ID=48152
DTSTAMP:20260310T094038Z
DTSTART:20260324T223000Z
DTEND:20260325T000000Z
TITLE;ENCODING=QUOTED-PRINTABLE:Chai Time with Books
SUMMARY;ENCODING=QUOTED-PRINTABLE:Chai Time with Books
DESCRIPTION;ENCODING=QUOTED-PRINTABLE:Are you an adult who enjoys reading Young Adult and Middle Grade fiction?  Join the host Tiff Parker and fellow readers for a fun discussion, along with some cozy chai tea. This month's book is Matilda by Roald Dahl. Register online at www.murrysvillelibrary.org or call the library at 724-327-1102.
LOCATION:Murrysville Community Library at Murrysville Community Library Room 1
URL:http://events.wlnonline.org/eventsignup.asp?ID=48152
CATEGORIES:Adult Program
END:VEVENT
END:VCALENDAR
