BEGIN:VCALENDAR
METHOD:PUBLISH
PRODID:evanced event management system
VERSION:2.0
BEGIN:VEVENT
UID:http://events.wlnonline.org/eventsignup.asp?ID=48151
DTSTAMP:20260309T155004Z
DTSTART:20260430T170000Z
DTEND:20260430T190000Z
TITLE;ENCODING=QUOTED-PRINTABLE:Private Meeting
SUMMARY;ENCODING=QUOTED-PRINTABLE:Private Meeting
DESCRIPTION;ENCODING=QUOTED-PRINTABLE:Private meeting in the community room.
LOCATION:Delmont Public Library at Lendl Community Room at Delmont Library
URL:http://events.wlnonline.org/eventsignup.asp?ID=48151
CATEGORIES:Meeting 
END:VEVENT
END:VCALENDAR
