BEGIN:VCALENDAR
METHOD:PUBLISH
PRODID:evanced event management system
VERSION:2.0
BEGIN:VEVENT
UID:http://events.wlnonline.org/eventsignup.asp?ID=48148
DTSTAMP:20260309T154203Z
DTSTART:20260330T183000Z
DTEND:20260330T190000Z
TITLE;ENCODING=QUOTED-PRINTABLE:Private Tutoring
SUMMARY;ENCODING=QUOTED-PRINTABLE:Private Tutoring
DESCRIPTION;ENCODING=QUOTED-PRINTABLE:A private tutoring class will be held at 2:30.
LOCATION:Delmont Public Library at Delmont Library
URL:http://events.wlnonline.org/eventsignup.asp?ID=48148
CATEGORIES:Meeting 
END:VEVENT
END:VCALENDAR
