BEGIN:VCALENDAR
METHOD:PUBLISH
PRODID:evanced event management system
VERSION:2.0
BEGIN:VEVENT
UID:http://events.wlnonline.org/eventsignup.asp?ID=48144
DTSTAMP:20260306T111450Z
DTSTART:20260415T223000Z
DTEND:20260416T003000Z
TITLE;ENCODING=QUOTED-PRINTABLE:CLC Group 
SUMMARY;ENCODING=QUOTED-PRINTABLE:CLC Group 
DESCRIPTION;ENCODING=QUOTED-PRINTABLE:Members of the CLC Group will meet in the community room.
LOCATION:Delmont Public Library at Lendl Community Room at Delmont Library
URL:http://events.wlnonline.org/eventsignup.asp?ID=48144
CATEGORIES:Meeting 
END:VEVENT
END:VCALENDAR
