BEGIN:VCALENDAR
METHOD:PUBLISH
PRODID:evanced event management system
VERSION:2.0
BEGIN:VEVENT
UID:http://events.wlnonline.org/eventsignup.asp?ID=48141
DTSTAMP:20260306T111145Z
DTSTART:20260423T211500Z
DTEND:20260423T224500Z
TITLE;ENCODING=QUOTED-PRINTABLE:Seed to Supper
SUMMARY;ENCODING=QUOTED-PRINTABLE:Seed to Supper
DESCRIPTION;ENCODING=QUOTED-PRINTABLE:This is a 6 week (NOTE: no class on April 9) comprehensive beginning gardening program that provides novice, adult gardeners the tools they need to learn how to successfully grow a portion of their own food on a limited budget. Please register through the master gardeners at  https://pennstate.qualtrics.com/jfe/form/SV_3O5yvvnLazszHaC 
LOCATION:Delmont Public Library at Delmont Library
URL:http://events.wlnonline.org/eventsignup.asp?ID=48141
CATEGORIES:Adult Program
END:VEVENT
END:VCALENDAR
