BEGIN:VCALENDAR
METHOD:PUBLISH
PRODID:evanced event management system
VERSION:2.0
BEGIN:VEVENT
UID:http://events.wlnonline.org/eventsignup.asp?ID=48128
DTSTAMP:20260401T195556Z
DTSTART:20260514T213000Z
DTEND:20260514T233000Z
TITLE;ENCODING=QUOTED-PRINTABLE:Adult Watercolor Painting With Camille
SUMMARY;ENCODING=QUOTED-PRINTABLE:Adult Watercolor Painting With Camille
DESCRIPTION;ENCODING=QUOTED-PRINTABLE:Paint a watercolor painting. Sign up for each session separately. The painting changes each date.
LOCATION:Greensburg Hempfield Area Library at Greensburg Area Library
URL:http://events.wlnonline.org/eventsignup.asp?ID=48128
CATEGORIES:Adult Program
END:VEVENT
END:VCALENDAR
