BEGIN:VCALENDAR
METHOD:PUBLISH
PRODID:evanced event management system
VERSION:2.0
BEGIN:VEVENT
UID:http://events.wlnonline.org/eventsignup.asp?ID=48125
DTSTAMP:20260304T163941Z
DTSTART:20260516T130000Z
DTEND:20260516T193000Z
TITLE;ENCODING=QUOTED-PRINTABLE:Energy Independence for Pennsylvania: Private Meeting
SUMMARY;ENCODING=QUOTED-PRINTABLE:Energy Independence for Pennsylvania: Private Meeting
DESCRIPTION;ENCODING=QUOTED-PRINTABLE:PRIVATE meeting/discussion regarding solar energy.  
LOCATION:Delmont Public Library at Lendl Community Room at Delmont Library
URL:http://events.wlnonline.org/eventsignup.asp?ID=48125
CATEGORIES:Meeting 
END:VEVENT
END:VCALENDAR
