BEGIN:VCALENDAR
METHOD:PUBLISH
PRODID:evanced event management system
VERSION:2.0
BEGIN:VEVENT
UID:http://events.wlnonline.org/eventsignup.asp?ID=48124
DTSTAMP:20260303T155922Z
DTSTART:20260411T130000Z
DTEND:20260411T180000Z
TITLE;ENCODING=QUOTED-PRINTABLE:Landscape Clean Up
SUMMARY;ENCODING=QUOTED-PRINTABLE:Landscape Clean Up
DESCRIPTION;ENCODING=QUOTED-PRINTABLE:Asking for help to clean up weeds, dig up old plants, pick up trash, etc, so we can make our garden and yard look beautiful again this summer. We would appreciate all the help we can get, register at delmontlibrary.org. Please bring your own gloves. If rain is forecasted, rain date will move up to April 9.  Thank you in advance!
LOCATION:Delmont Public Library at Delmont Library Garden
URL:http://events.wlnonline.org/eventsignup.asp?ID=48124
CATEGORIES:Gardening
END:VEVENT
END:VCALENDAR
