BEGIN:VCALENDAR
METHOD:PUBLISH
PRODID:evanced event management system
VERSION:2.0
BEGIN:VEVENT
UID:http://events.wlnonline.org/eventsignup.asp?ID=48123
DTSTAMP:20260331T151929Z
DTSTART:20260330T190000Z
DTEND:20260330T223000Z
TITLE;ENCODING=QUOTED-PRINTABLE:Easter Creations & Conversations
SUMMARY;ENCODING=QUOTED-PRINTABLE:Easter Creations & Conversations
DESCRIPTION;ENCODING=QUOTED-PRINTABLE:Spend an evening crafting, chatting, and enjoying light refreshments! Create a festive wooden Easter decoration using pre-cut designs. You choose the colors while we provide the supplies and snacks for a cozy night out at the library. Hop on over to  delmontlibrary.org  to reserve your spot!  MUST register & please notify us if you need to cancel. Adults only! Limit 15.  
LOCATION:Delmont Public Library at Lendl Community Room at Delmont Library
URL:http://events.wlnonline.org/eventsignup.asp?ID=48123
CATEGORIES:Adult Program
END:VEVENT
END:VCALENDAR
