BEGIN:VCALENDAR
METHOD:PUBLISH
PRODID:evanced event management system
VERSION:2.0
BEGIN:VEVENT
UID:http://events.wlnonline.org/eventsignup.asp?ID=48077
DTSTAMP:20260227T112402Z
DTSTART:20260313T210000Z
DTEND:20260313T210000Z
TITLE;ENCODING=QUOTED-PRINTABLE:Unscripted Writing Workshop
SUMMARY;ENCODING=QUOTED-PRINTABLE:Unscripted Writing Workshop
DESCRIPTION;ENCODING=QUOTED-PRINTABLE:Have stories, poems, or ideas you want to explore? Join our Creative Writing Workshop — a welcoming space for teens and young adults to develop their writing skills and find their voice. Whether you’re just starting out or already working on a project, this workshop offers prompts, discussion, and thoughtful feedback to help you grow as a writer.
LOCATION:Penn Area Library
URL:http://events.wlnonline.org/eventsignup.asp?ID=48077
CATEGORIES:Young Adult
END:VEVENT
END:VCALENDAR
