BEGIN:VCALENDAR
METHOD:PUBLISH
PRODID:evanced event management system
VERSION:2.0
BEGIN:VEVENT
UID:http://events.wlnonline.org/eventsignup.asp?ID=48074
DTSTAMP:20260227T112053Z
DTSTART:20260319T210000Z
DTEND:20260319T210000Z
TITLE;ENCODING=QUOTED-PRINTABLE:YA Book Club
SUMMARY;ENCODING=QUOTED-PRINTABLE:YA Book Club
DESCRIPTION;ENCODING=QUOTED-PRINTABLE:This month we are reading Looking for Alaska by John Green. 
LOCATION:Penn Area Library at Multipurpose Room
URL:http://events.wlnonline.org/eventsignup.asp?ID=48074
CATEGORIES:Teen Program
END:VEVENT
END:VCALENDAR
