BEGIN:VCALENDAR
METHOD:PUBLISH
PRODID:evanced event management system
VERSION:2.0
BEGIN:VEVENT
UID:http://events.wlnonline.org/eventsignup.asp?ID=48071
DTSTAMP:20260227T111456Z
DTSTART:20260312T170000Z
DTEND:20260312T170000Z
TITLE;ENCODING=QUOTED-PRINTABLE:Homeschool Hangouts, Health Science
SUMMARY;ENCODING=QUOTED-PRINTABLE:Homeschool Hangouts, Health Science
DESCRIPTION;ENCODING=QUOTED-PRINTABLE:Join us for an interactive health-science program with Katie Reese. Patrons will learn how the different systems of the body function and create a pair a working lungs. 
LOCATION:Penn Area Library
URL:http://events.wlnonline.org/eventsignup.asp?ID=48071
CATEGORIES:STEM
END:VEVENT
END:VCALENDAR
