BEGIN:VCALENDAR
METHOD:PUBLISH
PRODID:evanced event management system
VERSION:2.0
BEGIN:VEVENT
UID:http://events.wlnonline.org/eventsignup.asp?ID=48045
DTSTAMP:20260225T111501Z
DTSTART:20260328T140000Z
DTEND:20260328T200000Z
TITLE;ENCODING=QUOTED-PRINTABLE:Big Book Sale!
SUMMARY;ENCODING=QUOTED-PRINTABLE:Big Book Sale!
DESCRIPTION;ENCODING=QUOTED-PRINTABLE:Browse thousands of gently used and well loved paperback, hardback, movies, puzzles and more! All genres for all ages. Many $1 or less! Fill a bag for $5 on Thursday and Saturday.
LOCATION:Greensburg Hempfield Area Library at Greensburg Library
URL:http://events.wlnonline.org/eventsignup.asp?ID=48045
CATEGORIES:All Ages
END:VEVENT
END:VCALENDAR
