BEGIN:VCALENDAR
METHOD:PUBLISH
PRODID:evanced event management system
VERSION:2.0
BEGIN:VEVENT
UID:http://events.wlnonline.org/eventsignup.asp?ID=48028
DTSTAMP:20260224T133618Z
DTSTART:20260508T203000Z
DTEND:20260508T204500Z
TITLE;ENCODING=QUOTED-PRINTABLE:Dog Reading Pals
SUMMARY;ENCODING=QUOTED-PRINTABLE:Dog Reading Pals
DESCRIPTION;ENCODING=QUOTED-PRINTABLE:Reading to dogs is a proven method to improve reading skills. Stop by and read to one of our therapy dogs. DRP meets the 2nd Friday of each month. Children may bring their own book or get one at the library. Register online at www.murrysvillelibrary.org or call the library at 724-327-1102. Please register each child in your family for a 15 minute time slot.
LOCATION:Murrysville Community Library at Murrysville Community Library
URL:http://events.wlnonline.org/eventsignup.asp?ID=48028
CATEGORIES:Adult Program
END:VEVENT
END:VCALENDAR
